
BEGIN:VCALENDAR
VERSION:2.0
PRODID:-//DeltaTiro - ECPv6.8.3//NONSGML v1.0//EN
CALSCALE:GREGORIAN
METHOD:PUBLISH
X-ORIGINAL-URL:https://deltatiro.com.ar
X-WR-CALDESC:Eventos para DeltaTiro
REFRESH-INTERVAL;VALUE=DURATION:PT1H
X-Robots-Tag:noindex
X-PUBLISHED-TTL:PT1H
BEGIN:VTIMEZONE
TZID:America/Sao_Paulo
BEGIN:STANDARD
TZOFFSETFROM:-0300
TZOFFSETTO:-0300
TZNAME:-03
DTSTART:20200101T000000
END:STANDARD
END:VTIMEZONE
BEGIN:VEVENT
DTSTART;TZID=America/Sao_Paulo:20221023T100000
DTEND;TZID=America/Sao_Paulo:20221023T170000
DTSTAMP:20260423T160605
CREATED:20220514T202422Z
LAST-MODIFIED:20220926T174112Z
UID:2406-1666519200-1666544400@deltatiro.com.ar
SUMMARY:Tiro Defensivo - Técnicas Dínamicas
DESCRIPTION:
URL:https://deltatiro.com.ar/event/tiro-defensivo-avanzado/
LOCATION:Centro Argentino de Seguridad – Grl Rodriguez\, CAS\, General Rodriguez\, Buenos Aires\, Argentina
END:VEVENT
BEGIN:VEVENT
DTSTART;TZID=America/Sao_Paulo:20220925T100000
DTEND;TZID=America/Sao_Paulo:20220925T170000
DTSTAMP:20260423T160605
CREATED:20210304T212347Z
LAST-MODIFIED:20220825T010304Z
UID:2032-1664100000-1664125200@deltatiro.com.ar
SUMMARY:Entrenamiento Real - Force on Force
DESCRIPTION:
URL:https://deltatiro.com.ar/event/force-on-force/
LOCATION:Kosovo Airsoft
END:VEVENT
BEGIN:VEVENT
DTSTART;TZID=America/Sao_Paulo:20220313T100000
DTEND;TZID=America/Sao_Paulo:20220313T170000
DTSTAMP:20260423T160605
CREATED:20220224T202649Z
LAST-MODIFIED:20220224T202920Z
UID:2318-1647165600-1647190800@deltatiro.com.ar
SUMMARY:Def\, Seg y Tiro para la Mujer
DESCRIPTION:
URL:https://deltatiro.com.ar/event/mujer/
LOCATION:SITAS – El Palomar
END:VEVENT
BEGIN:VEVENT
DTSTART;TZID=America/Sao_Paulo:20201127T100000
DTEND;TZID=America/Sao_Paulo:20201127T170000
DTSTAMP:20260423T160605
CREATED:20201117T170437Z
LAST-MODIFIED:20201117T170513Z
UID:1976-1606471200-1606496400@deltatiro.com.ar
SUMMARY:Introducción al Tiro Deportivo
DESCRIPTION:
URL:https://deltatiro.com.ar/event/introduccion-al-tiro-deportivo/
END:VEVENT
END:VCALENDAR