
BEGIN:VCALENDAR
VERSION:2.0
PRODID:-//DeltaTiro - ECPv6.8.3//NONSGML v1.0//EN
CALSCALE:GREGORIAN
METHOD:PUBLISH
X-WR-CALNAME:DeltaTiro
X-ORIGINAL-URL:https://deltatiro.com.ar
X-WR-CALDESC:Eventos para DeltaTiro
REFRESH-INTERVAL;VALUE=DURATION:PT1H
X-Robots-Tag:noindex
X-PUBLISHED-TTL:PT1H
BEGIN:VTIMEZONE
TZID:America/Sao_Paulo
BEGIN:STANDARD
TZOFFSETFROM:-0300
TZOFFSETTO:-0300
TZNAME:-03
DTSTART:20260101T000000
END:STANDARD
END:VTIMEZONE
BEGIN:VEVENT
DTSTART;TZID=America/Sao_Paulo:20260314T100000
DTEND;TZID=America/Sao_Paulo:20260315T170000
DTSTAMP:20260423T190125
CREATED:20260112T074823Z
LAST-MODIFIED:20260113T141150Z
UID:3921-1773482400-1773594000@deltatiro.com.ar
SUMMARY:ESPECIALIZACIÓN PROFESIONAL EN DEFENSA ARMADA
DESCRIPTION:
URL:https://deltatiro.com.ar/event/especializacion-en-defensa/
LOCATION:Centro Argentino de Seguridad – Grl Rodriguez\, CAS\, General Rodriguez\, Buenos Aires\, Argentina
END:VEVENT
END:VCALENDAR