
BEGIN:VCALENDAR
VERSION:2.0
PRODID:-//DeltaTiro - ECPv6.8.3//NONSGML v1.0//EN
CALSCALE:GREGORIAN
METHOD:PUBLISH
X-ORIGINAL-URL:https://deltatiro.com.ar
X-WR-CALDESC:Eventos para DeltaTiro
REFRESH-INTERVAL;VALUE=DURATION:PT1H
X-Robots-Tag:noindex
X-PUBLISHED-TTL:PT1H
BEGIN:VTIMEZONE
TZID:America/Sao_Paulo
BEGIN:STANDARD
TZOFFSETFROM:-0300
TZOFFSETTO:-0300
TZNAME:-03
DTSTART:20240101T000000
END:STANDARD
END:VTIMEZONE
BEGIN:VEVENT
DTSTART;TZID=America/Sao_Paulo:20241124T090000
DTEND;TZID=America/Sao_Paulo:20241124T090000
DTSTAMP:20260424T175524
CREATED:20201019T115304Z
LAST-MODIFIED:20241023T000205Z
UID:1959-1732438800-1732438800@deltatiro.com.ar
SUMMARY:Tiro Defensivo Vehicular
DESCRIPTION:
URL:https://deltatiro.com.ar/event/tiro-defensivo-vehicular/
LOCATION:Centro Argentino de Seguridad – Grl Rodriguez\, CAS\, General Rodriguez\, Buenos Aires\, Argentina
END:VEVENT
END:VCALENDAR